BEGIN:VCALENDAR
VERSION:2.0
CALSCALE:GREGORIAN
METHOD:PUBLISH
BEGIN:VEVENT
SUMMARY:La Nuit des Étoiles - Graine d’Évolution & Groupe Scientifique
  d'Arras
DTSTART:20260808T190000Z
DTSTAMP:20260419T134741Z
CATEGORIES:
DESCRIPTION:Une soirée magique sous les étoiles ! Le Groupe Scientifique
  d'Arras vous guide à travers les constellations et les mystères du ciel
  nocturne depuis le site préservé d'Écoland.\nInformations pratiques :\
 n  - Date : Samedi 8 août  - Horaires : 21h à 23h  - Tarif : Prix lib
 re (participation libre en soutien à l'association)  - Lieu : Site Ecola
 nd\, Palluel\nInscription :Inscription obligatoire pour organiser l'accuei
 l et le matériel d'observation. Participation libre à régler sur place.
  En cas de mauvaise météo\, l'événement pourrait être adapté.
GEO:50.2689439;3.094824
LOCATION:25 Chemin du Marais 62860 Palluel - FR
ORGANIZER:ECOLAND
END:VEVENT
END:VCALENDAR
