BEGIN:VCALENDAR
VERSION:2.0
CALSCALE:GREGORIAN
METHOD:PUBLISH
BEGIN:VEVENT
SUMMARY:Balade Ornithologique avec le GON
DTSTART:20260613T080000Z
DTSTAMP:20260419T134734Z
CATEGORIES:
DESCRIPTION:L’association Graine d’Évolution s'associe au Groupe Orni
 thologique et Naturaliste (GON) pour une matinée d'observation au cœur d
 'Écoland. Venez découvrir et identifier les oiseaux qui peuplent notre e
 nvironnement naturel.\nInformations pratiques :\n  - Date : Samedi 13 jui
 n  - Horaires : 10h à 12h  - Tarif : Prix libre (participation conscien
 te selon vos moyens)  - Lieu : Site Ecoland\, Palluel\nInscription : Insc
 ription obligatoire via cette billetterie pour garantir la qualité de l'e
 ncadrement par les naturalistes.\nParticipation libre à régler sur place
 . (chèque ou espèces)
GEO:50.2689439;3.094824
LOCATION:25 Chemin du Marais 62860 Palluel - FR
ORGANIZER:ECOLAND
END:VEVENT
END:VCALENDAR
