BEGIN:VCALENDAR
VERSION:2.0
CALSCALE:GREGORIAN
METHOD:PUBLISH
BEGIN:VEVENT
SUMMARY:Initiation Shiatsu
DTSTART:20260606T130000Z
DTSTAMP:20260419T134747Z
CATEGORIES:
DESCRIPTION: Venez découvrir les bienfaits du Shiatsu lors d'une séance
  d'initiation de deux heures au cœur d'Écoland.\n \n Cet atelier vous 
 permettra d'apprendre des techniques de pression simples pour libérer les
  tensions et harmoniser votre énergie.\n \n Informations pratiques : \n
  \n- Date : Samedi 6 juin \n \n- Horaires : 15h à 17h \n \n- Tarif : 2
 0 € \n(à régler directement sur place\, en chèque ou espèce\, l'asso
 ciation ne dispose pas de TPE)\n \n - Lieu : Site Ecoland\, Palluel \n 
 \nInscription : L'inscription ici est gratuite pour réserver votre place.
  \n \nLe règlement de la séance s'effectue sur place le jour de l'évé
 nement. 
GEO:50.2689439;3.094824
LOCATION:25 Chemin du Marais 62860 Palluel - FR
ORGANIZER:ECOLAND
END:VEVENT
END:VCALENDAR
