BEGIN:VCALENDAR
VERSION:2.0
CALSCALE:GREGORIAN
METHOD:PUBLISH
BEGIN:VEVENT
SUMMARY:Atelier Menuiserie - Graine d'Évolution
DTSTART:20260425T130000Z
DTEND:20260829T130000Z
DTSTAMP:20260419T134734Z
CATEGORIES:
DESCRIPTION:\nL’association Graine d’Évolution vous accueille sur le
  site d'Ecoland pour un atelier artisanal et convivial. Accompagnés par u
 n ancien formateur en menuiserie\, venez découvrir le plaisir de façonne
 r le bois de vos propres mains.\nAu programme :\nRéalisation de petits ob
 jets d’art ou d’objets utiles (comme des supports pour téléphone).\n
 \n\nSessions d'avril et juin : Idéal pour ceux qui souhaitent confectionn
 er un cadeau personnalisé (Fête des Mères\, Fête des Pères).\n\n\nSes
 sion d'août : Un moment de détente créative avant la rentrée.\n\n\nCô
 té pratique :\n\n\nPour qui ? Ouvert à tous\, idéal pour un moment pare
 nt/enfant.\n\n\nHoraires : De 15h00 à 18h00.\n\n\nMatériel : Tout est fo
 urni (bois et outils). Vous repartez avec votre création !\n\n\nLieu : Si
 te Ecoland\, Palluel (62860).\n\n\nInscription et Tarifs :\n\n\nL'inscript
 ion est gratuite : Sélectionnez simplement votre date et le nombre de pla
 ces\, puis entrez votre mail.\n\n\nParticipation aux frais :\n\n\n10 € p
 ar objet (tarif de base)\n\n\n5 € par objet (pour les adhérents à jour
 s de leur cotisation)\n\n\n à régler directement sur place (en chèque\
 , ou espèces\, l'association n'est pas équipée de TPE).\n\n\n\n\n
GEO:50.2689439;3.094824
LOCATION:25 Chemin du Marais 62860 Palluel - FR
ORGANIZER:ECOLAND
END:VEVENT
END:VCALENDAR
