BEGIN:VCALENDAR
VERSION:2.0
CALSCALE:GREGORIAN
METHOD:PUBLISH
BEGIN:VEVENT
SUMMARY:Kermix#3
DTSTART:20260522T160000Z
DTEND:20260522T160000Z
DTSTAMP:20260422T084554Z
CATEGORIES:
DESCRIPTION:\nKERMIX revient à Quimper pour trois jours de fête\, de mus
 ique et de culture vivante.\n\n	 \n\n	Porté par l’association Synchron
 e\, pour sa 3ème édition\, le festival investit une seconde fois la Plai
 ne du Moulin Vert pour sa kermesse nouvelle génération : populaire\, int
 ergénérationnelle et résolument tournée vers les musiques actuelles.\n
 \n	 \n\n	⸻\n\n	 \n\nVendredi 22 mai de 18h à 1h\n\n	 \n\nFest Noz no
 uvelle vague\n\n	Musiques électroniques & cultures bretonnes réunies sur
  un même plateau.\n\n	 \n\nFLEUVES\n\nPLANTEC\n\nDISSIDAÑS\n\nTRIO LE B
 UHÉ BRUNET LÉON\n\nBAGAD AR MEILHOU GLAS\n\n	 \n\n	Un temps fort dansan
 t et collectif pour lancer le week-end.\n\n	 \n\n	Tarif 8€ en prévente
  / 10€ sur place\n\n	 \n\n	⸻\n\n	 \n\nSamedi 23 mai de 14h à 00h\n\
 n	 \n\n	Festival sous chapiteau et en plein air \n\n	 \n\n	– DJ sets 
 & Live acts\n\nJAZZ\n\nYASSA COLLECTIF\n\nSÔNGE\n\nKILL EMIL (LIVE)\n\nDU
 BCHRONIKS\n\nKAOUENN\n\n	 \n\n	– Performances artistiques et théâtral
 es \n\nQUIMPER IMPRO\n\n	 \n\n	– Marché de créateurs\n\n	– Espaces
  conviviaux\n\n	 \n\n	Une journée et une soirée placées sous le signe 
 de l’énergie et du partage.\n\n\n	​⸻\n\n	 \n\nDimanche 24 mai de 1
 2h à 00h\n\n	 \n\n	Journée familiale & culturelle\n\n	 \n\n	– DJ set
 s & Live acts\n\nKLÂRA\n\nMEDROL\n\nRHIZOM\n\nHARBINGER (LIVE)\n\nKILL EM
 IL\n\nTONY TRUAND\n\nMAX COAST\n\nSMALL CHRIS\n\n	 \n\n	– Ateliers & an
 imations\n\nQUIMPER IMPRO\n\nANIMAGIC\n\nJEUX DES ÎLES\n\nDRAG’ELI\n\n	
  \n\n	– Espaces et jeux pour enfants\n\n	– Tournois de palets \n\n	
 – Marché de créateurs\n\n	– Ateliers\n\n	 \n\n	Un dimanche ouvert 
 à toutes et tous.\n\n	 \n\n	Gratuit\n\n	⸻\n\n	 \n\nKERMIX\, c’est u
 n événement accessible\, familiale et fédérateur. Un rendez-vous pour 
 les passionnés comme pour les curieux.\n\n	 \n
LOCATION:Chememin de Pretayer 29000 Quimper - FR
ORGANIZER:Synchrone 
END:VEVENT
END:VCALENDAR
