BEGIN:VCALENDAR
VERSION:2.0
CALSCALE:GREGORIAN
METHOD:PUBLISH
BEGIN:VEVENT
SUMMARY:Au-delà de la Matière
DTSTART:20260621T130000Z
DTSTAMP:20260419T170129Z
CATEGORIES:
DESCRIPTION:Bienvenue à la Conférence immersive qui vous relie aux règn
 es du Vivant !\nVous réaliserez que l'ingénierie de notre corps physique
  est le miroir de celles qui régissent chaque règne environnant.\nCette 
 conférence sera rythmée de transmissions de connaissances et d'immersion
 s au sein même du Vivant notamment au travers du Règne Végétal.\nChaqu
 e règne\, qu'il soit Végétal\, Animal\, Minéral\, chaque Conscience qu
 i habite ces règnes reliée à son Origine est un puits sans fond d'ensei
 gnements.\nCette Conférence est une mise à jour Structurelle\, Cellulair
 e qui vous permet la Reliance\, l'Osmose au Vivant.\nChacune de vos Cellul
 es rentrera en résonnance avec les Fréquences du Vivant et permettra à 
 ce souffle fréquentiel de la Vie d'atteindre vos profondeurs les plus mic
 roscopiques.\nÉtablissez-vous dans une véritable croissance qui est cell
 e de Gaïa et verticale ! 
GEO:46.328707;-0.420943
LOCATION:34 Rue des Nardouzans 79000 Niort - FR
ORGANIZER:Damien Marchand
END:VEVENT
END:VCALENDAR
