BEGIN:VCALENDAR
VERSION:2.0
CALSCALE:GREGORIAN
METHOD:PUBLISH
BEGIN:VEVENT
SUMMARY:SARAH CABROL-DOUAT
DTSTART:20260516T180000Z
DTEND:20260516T190000Z
DTSTAMP:20260422T171835Z
CATEGORIES:
DESCRIPTION:\nRécital de piano\n
LOCATION:47 rue Ramey 75018 Paris - FR
ORGANIZER:Studio L'Accord Parfait
END:VEVENT
END:VCALENDAR
