BEGIN:VCALENDAR
VERSION:2.0
CALSCALE:GREGORIAN
METHOD:PUBLISH
BEGIN:VEVENT
SUMMARY:WEEK END NATURO "Belle peau"
DTSTART:20260717T160000Z
DTEND:20260719T150000Z
DTSTAMP:20260422T091101Z
CATEGORIES:
DESCRIPTION:\nWeek-end Naturo\n\n"Belle peau"  \n\n2 jours 1/2 pour trans
 former ta routine beauté... naturellement !\n\n Expérimente\, créer et
  repars avec des gestes qui changent tout.\n\n	 \n\n\n\nDurée :  2 jo
 urs 1/2 / 2 nuits\n\nArrivée :  Vendredi 17 juillet 2026 – 18h00\n\nD
 épart : Dimanche 19 juillet 2026 – 17h00\nLieu : Près de Minerve (34
 )\nGroupe : 7 pers maxi (5 pers mini)\nOrganisatrice : Elisabeth LACOSTE
 \, naturopathe et formatrice\n\n			 \n\nTOUTES LES INFORMATIONS sur le si
 te web !\n\n\n\n	 \n
LOCATION:34000   - FR
ORGANIZER:INFUSE
END:VEVENT
END:VCALENDAR
