BEGIN:VCALENDAR
VERSION:2.0
CALSCALE:GREGORIAN
METHOD:PUBLISH
BEGIN:VEVENT
SUMMARY:Brechts "Flüchtlingsgespräche"
DTSTART:20260508T163000Z
DTEND:20260508T183000Z
DTSTAMP:20260419T152225Z
CATEGORIES:
DESCRIPTION:\nBertolt Brecht: Flüchtlingsgespräche\n\nDarstellung: Ulric
 h Kuhlmann und Max Gindorff\n\nDramaturgie: Olivier Ortolani\n\n	 \n\nFre
 itag 08.05.2026\, 18:30 Uhr (Einlass ab 18:00 Uhr) \n\nEintritt frei\, vor
 herige Anmeldung und Freikartenreservierung erforderlich auf dieser Seite.
 \n\n	 \n\nIn den Flüchtlingsgesprächen\, die er im Exil schrieb\, verar
 beitete Brecht autobiografische Erfahrungen. Doch ist der Text erkennbar d
 er Versuch\, das eigene Erleben\, die eigene Position von außen zu betrac
 hten\, zu objektivieren. Er erschien nicht zu Brechts Lebzeiten\, eine gez
 eichnete Fassung existiert nicht. Sein Text ist in Dialogform verfasst.\n\
 nMan schreibt das Jahr 1940/41. In einem finnischen Bahnhofsrestaurant tre
 ffen sich zwei Menschen\, die vor dem Naziregime und Hitlers Kriegsfurie a
 us Deutschland geflohen sind: \n\nZiffel\, ein Physiker und kritischer In
 tellektueller\, und Kalle\, ein Metallarbeiter und militanter Kommunist\, 
 den die Erfahrung des Konzentrationslagers ins Exil getrieben hat. Ihr Pas
 s bedeutet ihnen plötzlich alles\, denn „Der Pass ist der edelste Teil 
 von einem Menschen. Er kommt auch nicht auf so einfache Weise zustand wie 
 ein Mensch. Ein Mensch kann überall zustandkommen\, auf die leichtsinnigs
 te Art und ohne gescheiten Grund\, aber ein Pass niemals. Dafür wird er a
 uch anerkannt\, wenn er gut ist\, während ein Mensch noch so gut sein kan
 n und doch nicht anerkannt wird“. \n\nBrechts Flüchtlingsgespräche sin
 d auch 80 Jahre nach ihrer Niederschrift in einer Zeit von Flüchtlingsabw
 ehr\, dem Erstarken von Rechtspopulismus und weltweiten Kriegen von verbl
 üffender Aktualität.\n\nDie Lesung ist weit mehr als ein scharfsinniger 
 Schlagabtausch zwischen einem Arbeiter und einem Intellektuellen\, die wä
 hrend des Zweiten Weltkrieges in einem finnischen Café stranden. Es ist e
 in zugleich anspruchsvoller wie unterhaltsamer Abend mit zwei hochkarätig
 en Schauspielern unterschiedlicher Generationen\, dem in Berlin lebenden u
 nd am Berliner Ensemble engagierten Luxemburger Schauspieler Max Gindorff 
 (Kalle) und dem renommierten deutschen Schauspieler Ulrich Kuhlmann (Ziffe
 l)\, arrangiert vom luxemburgischen Dramaturgen und Brecht-Kenner\, Olivie
 r Ortolani. \n\n	 \n\nVeranstaltungsort: \n\n\nMaison du Grand-Duché de 
 Luxembourg\n\nBotschaft des Großherzogtums Luxemburg\n\nKlingelhöferstra
 ße 7\n\n10785 Berlin\n\n
LOCATION:Klingelhöferstr. 7 10785 Berlin - DE
ORGANIZER:Botschaft des Großherzogtums Luxemburg
END:VEVENT
END:VCALENDAR
