BEGIN:VCALENDAR
VERSION:2.0
CALSCALE:GREGORIAN
METHOD:PUBLISH
BEGIN:VEVENT
SUMMARY:30.04.2026 Soirée Plénière - Made in Normandie : Projets et Opp
 ortunités
DTSTART:20260430T163000Z
DTEND:20260430T203000Z
DTSTAMP:20260423T121043Z
CATEGORIES:
DESCRIPTION:\n	Chers amis\,\n\n	Nous avons le plaisir de convier à notre 
 prochaine: \n\nSoirée Plénière CE92 : Table Ronde\n\nMade in Normandi
 e - Projets et Opportunités\n\n	 \n\nLe Jeudi  30 Avril \n\nDe 19h00 à
  23h00\n\nà la Ville Saint Cyr à Bourg la Reine.\n\n	 \n\n	Cette soiré
 e prendra la forme d’une table ronde\, avec 2 invités d’Honneur :\n\
 n\n		Mmee Jeanne LEMOINE\, Vice Présidente de la FEEF\, Présidente du Cl
 ub ETI Normandie et Dirigeante du Groupe industriel Lemoine\, spécialisé
  dans les produits hygiéniques responsables.\n\n		Stéphane BORDIER\, Dé
 légué Régional Normandie de la Société d'Encouragement à l'Industrie
  Nationale et Fondateur d'Influences Territoriales\, un cabinet de conseil
  stratégie au développement projets privés et publics\, basé à Rouen.
 \n\n\n	 \n\n	Seront également conviés :\n\n\n		Les représentants à 
 l’Economie de Vallée Sud Grand Paris\n\n		Les élus de Bourg La Reine 
 : Maire et Adjoint à l’Economie\n\n		la CPME 92\n\n\n	L’événement e
 st co-organisé avec notre nouveau membre : BLR Commerces.\n\n	Au program
 me :\n\n\n		19h00 : Accueil du Public\n\n		19h30 : Introduction\n\n		19
 h45 : Table Ronde\n\n		20h30 : Questions/ Réponses\n\n		20h45 : Photo 
 Souvenir\n\n		20h50 : Cocktail Normand et PME+ (grâce aux soins d’un t
 raiteur de l’Union de Commerces & Artisans : BLR Commerces\, membre CE9
 2)\n\n		22h30 : Fin de soirée\n\n\n	Réservez votre soirée. Prenez votr
 e Ticket dès maintenant. Nombre de places limités.\n\n	A très vite\,\n
LOCATION:29 Boulevard Carnot 92340 Bourg-la-Reine - FR
ORGANIZER:Le Club Entrepreneurs 92
END:VEVENT
END:VCALENDAR
