BEGIN:VCALENDAR
VERSION:2.0
CALSCALE:GREGORIAN
METHOD:PUBLISH
BEGIN:VEVENT
SUMMARY:Puls Festival 2026
DTSTART:20260807T160000Z
DTEND:20260809T080000Z
DTSTAMP:20260426T023730Z
CATEGORIES:
DESCRIPTION:
GEO:51.3235202;9.2716963
LOCATION:Bergstraße Burghasungen 34289 Wolfhagen - DE
ORGANIZER:PULS EVENTS - Fricke, Kostka, Maschke GbR
END:VEVENT
END:VCALENDAR
