BEGIN:VCALENDAR
VERSION:2.0
CALSCALE:GREGORIAN
METHOD:PUBLISH
BEGIN:VEVENT
SUMMARY:One Piece TCG Regionals - Sofia 2026 | Waiting List
DTSTART:20260426T090000Z
DTSTAMP:20260423T175225Z
CATEGORIES:
DESCRIPTION:This page is for sign-ups for the WAITING LIST of One Piece Ca
 rd Game Sofia Regionals 2026.\nWaitlist spots are not transferible or exch
 angeable\, spots resale is strictly prohibited. Make sure to enter the co
 rrect name\, surname and e-mail with your sign-up.\nPlease include your Di
 scord account if you wish to be tagged when you are selected via Waiting L
 ist.\nIf you get selected\, you will receive an e-mail to the listed e-mai
 l here to proceed with payment of the ticket. A new ticket will be generat
 ed in such cases\, with the very same information filled here during waitl
 ist processing.\nAfter finishing the reservation\, you will receive a tick
 et indicating your order spot. New spots coming from ticket refunds will b
 e allocated to the waiting list in strict waitlist order. This waiting li
 st is valid\, strictly\, only for tickets released coming from Partial Ref
 unds. This waiting list will have no value at the event door should ticke
 ts be available at the event door (If any).\nFor further info\, please che
 ck our website and social media.\nTournament rules and prizes: X English:
  https://x.com/TCG_VictoryRoadX Spanish: https://x.com/VictoryRoadESDiscor
 d server: https://discord.gg/NHXERVAsQz\nWaitlist updates will be publishe
 d in our discord server\, be sure to check it out!
LOCATION:  
ORGANIZER:Rollout Entertainment SL
END:VEVENT
END:VCALENDAR
