BEGIN:VCALENDAR
VERSION:2.0
CALSCALE:GREGORIAN
METHOD:PUBLISH
BEGIN:VEVENT
SUMMARY:Quand la littérature humoristique raconte la société
DTSTART:20260427T163000Z
DTSTAMP:20260419T223316Z
CATEGORIES:
DESCRIPTION:Rencontre avec l’auteur Francesco Muzzopappa présenté par 
 la journaliste Elsa De Simone de Alcolibri Anonimi. Dipendenze Letterarie\
 nParmi les principaux représentants en Italie de la littérature humorist
 ique et de la comédie brillante contemporaine\, le style de Francesco Muz
 zopappa se caractérise par une narration solide\, une satire intelligente
  et une écriture de qualité\, parsemée de références humoristiques é
 rudites et d’une ironie grotesque\, parfois surréaliste.
LOCATION:7\, rue Schweighaeuser 67000 Strasbourg
ORGANIZER:Istituto Italiano di Cultura
END:VEVENT
END:VCALENDAR
