BEGIN:VCALENDAR
VERSION:2.0
CALSCALE:GREGORIAN
METHOD:PUBLISH
BEGIN:VEVENT
SUMMARY:STYLE AND FASHION 13
DTSTART:20260606T160000Z
DTEND:20260606T230000Z
DTSTAMP:20260421T153515Z
CATEGORIES:
DESCRIPTION:
LOCATION:59\, Rue Alexandre Duval 35000 RENNES - FR
ORGANIZER:LEGAL PROMOTION
END:VEVENT
END:VCALENDAR
