BEGIN:VCALENDAR
VERSION:2.0
CALSCALE:GREGORIAN
METHOD:PUBLISH
BEGIN:VEVENT
SUMMARY:L'UBU PREND L'AIR : Violent Sadie Mode + Shadi  @  la Ferme de Qui
 ncé
DTSTART:20260624T160000Z
DTEND:20260624T210000Z
DTSTAMP:20260422T234646Z
CATEGORIES:
DESCRIPTION:Quand viennent les beaux jours\, il arrive que l’esprit curi
 eux de l’Ubu prenne l’air… Pour la troisième année consécutive\, 
 Les Trans vous proposent ainsi une soirée de concerts dans l’écrin de 
 nature et de cultures qu’est la Ferme de Quincé.\n \nNous accueilleron
 s tout d’abord la rage pop de Shadi qui incarne un personnage rebelle\, 
 avec auto-dérision\, dans un univers grinçant et tourbillonnant. Dans As
 cendant Rockstar\, son premier album sorti fin mars\, on peut entendre de 
 la pop chantée en français sur des productions électroniques aux tempos
  variés\, allant parfois jusqu’à évoquer les sonorités de Sexy Sushi
 .\nNous basculerons ensuite du côté rock de la force avec les Bordelais 
 de Violent Sadie Mode\, emmenés par l’étonnante Sadie Golding et sa vo
 ix sans compromis\, ni filet de sécurité. Musicalement influencés par M
 inor Threat et Amyl & The Sniffers\, entre hardcore et punk rock\, le quat
 uor compose des morceaux tranchants qui pourraient prendre\, en live\, des
  airs de défouloir collectif !
LOCATION:Le Haut Quincé 35000 RENNES - FR
ORGANIZER:ASSOCIATION TRANS MUSICALES
END:VEVENT
END:VCALENDAR
