BEGIN:VCALENDAR
VERSION:2.0
CALSCALE:GREGORIAN
METHOD:PUBLISH
BEGIN:VEVENT
SUMMARY:Concert & Rencontre autour de l'archèterie - Edwin Clément\, Arc
 hetier
DTSTART:20260513T180000Z
DTSTAMP:20260422T084301Z
CATEGORIES:
DESCRIPTION:\nProgramme\n \nCONCERT\n \nLes variations Goldberg\n \nTransc
 ription pour Trio à cordes de Dimitry Sitkovetsy\n \n \n \nCONFÉRENCE\n
  \nPrésentation et dialogue autour du Pernambouc\n \n"Les enjeux de l'arc
 hèterie moderne  et de l'interprétation musicale suite aux décisions d
 e la CoP 20  de Samarcande sur le dossier pernambouc ( Paubrasilia echina
 ta)"\n \n(Décembre 2025- ONU- Convention de Washington\n
GEO:48.88414520000001;2.3093333
LOCATION:78 Rue Cardinet 75017 Paris - FR
ORGANIZER:SA Ecole Normale de Musique Paris
END:VEVENT
END:VCALENDAR
