BEGIN:VCALENDAR
VERSION:2.0
CALSCALE:GREGORIAN
METHOD:PUBLISH
BEGIN:VEVENT
SUMMARY:Après-midi des cartels - 6 juin 2026
DTSTART:20260606T123000Z
DTEND:20260606T150000Z
DTSTAMP:20260420T045820Z
CATEGORIES:
DESCRIPTION:\n	À quoi sert le fantasme ?\n\n	Invité : Philippe Bénichou
 \, responsable de la commission des cartels e l'ECF et de l'AMP.\n\n	 \n\
 n	Entrée : 10€ / 5€ étudiants et demandeurs d'emploi\n
LOCATION:26 rue du Hâ 33000 BORDEAUX - FR
ORGANIZER:Association  Cause Freudienne
END:VEVENT
END:VCALENDAR
