BEGIN:VCALENDAR
VERSION:2.0
CALSCALE:GREGORIAN
METHOD:PUBLISH
BEGIN:VEVENT
SUMMARY:Demi-Finale Retour des Playoffs - MHSC VB vs SÈTE - Marmara Spike
 Ligue
DTSTART:20260424T180000Z
DTEND:20260424T215900Z
DTSTAMP:20260422T183707Z
CATEGORIES:
DESCRIPTION:Saison 2025-2026 - Demi-Finale Retour des Playoffs vs Sète - 
 Marmara SpikeLigue\nTarif(s) Réduit(s) : CE\, détenteurs du Pass Métrop
 ole\, demandeurs d'emploi\, PMR et accompagnants | 0-18 ans | Étudiant | 
 Licencié FFVB | sur présentation d'un justificatif en ligne (pièce joi
 nte) ou le soir du match au guichet billetterie.\nEntrée gratuite pour le
 s enfants de moins de 6 ans (retrait d'un billet ayant droit directement e
 n ligne & assis sur les genoux d’un parent). Aucun remboursement ne sera
  possible après l'achat d'un billet.\nEntrée des 2 équipes vers 19h50
 .
GEO:43.6455446;3.9154245
LOCATION:515 Avenue de la Monnaie 34170 Castelnau-le-Lez - FR
ORGANIZER:MHSC - VB
END:VEVENT
END:VCALENDAR
