BEGIN:VCALENDAR
VERSION:2.0
CALSCALE:GREGORIAN
METHOD:PUBLISH
BEGIN:VEVENT
SUMMARY:17ème édition AFTERBAT PEUGEOT
DTSTART:20260603T163000Z
DTEND:20260603T200000Z
DTSTAMP:20260423T173321Z
CATEGORIES:
DESCRIPTION:\n\n\n			 \n\n\n\n	 \n
LOCATION:215 Bd Charles de Gaule  37 SAINT CYR SUR LOIRE - FR
ORGANIZER:AFTERBAT
END:VEVENT
END:VCALENDAR
