BEGIN:VCALENDAR
VERSION:2.0
CALSCALE:GREGORIAN
METHOD:PUBLISH
BEGIN:VEVENT
SUMMARY:Apéro sur stand ID Résine
DTSTART:20260505T090000Z
DTEND:20260505T100000Z
DTSTAMP:20260423T173320Z
CATEGORIES:
DESCRIPTION:\n\n\n			ID Résine vous propose de venir découvrir son stand
  sur la Foire de Tours lors d'un apéro.\n\n\n\n	 \n
LOCATION:Parc des expositions 37000 TOURS - FR
ORGANIZER:AFTERBAT
END:VEVENT
END:VCALENDAR
