BEGIN:VCALENDAR
VERSION:2.0
CALSCALE:GREGORIAN
METHOD:PUBLISH
BEGIN:VEVENT
SUMMARY:Concert 80'S débarque à Montluçon
DTSTART:20261126T193000Z
DTSTAMP:20260425T160034Z
CATEGORIES:
DESCRIPTION:
GEO:46.34742360000001;2.6046972
LOCATION:Rue Pablo Picasso 03100 Montluçon - FR
ORGANIZER:Production El'Event & Event Factory Production
END:VEVENT
END:VCALENDAR
