BEGIN:VCALENDAR
VERSION:2.0
CALSCALE:GREGORIAN
METHOD:PUBLISH
BEGIN:VEVENT
SUMMARY:Pascal AMOYEL (piano)
DTSTART:20260611T170000Z
DTSTAMP:20260422T195453Z
CATEGORIES:
DESCRIPTION:Programme : \nFranz LISZT : Chant du berceau - Nuage gris\nAr
 vo PÄRT : Für Alina - Pari Intervallo\nPascal AMOYEL : Spin - Origine -
  Particules - Flamme\nPhilip GLASS : Mad Rush\nFranz LISZT : 2nde légende
  de Saint-François de Paule marchant sur les flots\n 
LOCATION:67\, Rue Gambetta 83990 Saint-Tropez - FR
ORGANIZER:Société Tropézienne des Amis de la Musique
END:VEVENT
END:VCALENDAR
