BEGIN:VCALENDAR
VERSION:2.0
CALSCALE:GREGORIAN
METHOD:PUBLISH
BEGIN:VEVENT
SUMMARY:Billetterie la Grande Chasse aux Trésors - Samedi 25 Avril 2026
DTSTART:20260424T220000Z
DTSTAMP:20260420T153046Z
CATEGORIES:
DESCRIPTION:Cette Billetterie vous permet de réserver 2 places pour la Gr
 ande Chasse aux Trésors du Samedi 25 Avril à Grenoble.\nUne seule person
 ne commande à son nom pour les 2 places. L'événement est ouvert à tous
  (il n'est pas nécessaire de posséder la Carte Emblem ni d'avoir -26 ans
 ).\nLe jour J\, présentez-vous avec votre accompagnant au Jardin Biergart
 en (18 Rue Thiers)\, à l'horaire choisi sur la Billetterie\, et muni de v
 otre pièce d'identité\, afin de récupérer votre Roadbook !\nBillets no
 n échangeables\, non remboursables\, non transmissibles.
GEO:45.1874063;5.7210463
LOCATION:18 Rue Thiers 38000 Grenoble - FR
ORGANIZER:EI Jérémy Servary
END:VEVENT
END:VCALENDAR
