BEGIN:VCALENDAR
VERSION:2.0
CALSCALE:GREGORIAN
METHOD:PUBLISH
BEGIN:VEVENT
SUMMARY:Moon on Earth
DTSTART:20260513T180000Z
DTSTAMP:20260420T151438Z
CATEGORIES:
DESCRIPTION:
LOCATION:11 rue de l'Industrie 7090 Braine-leComte - BE
ORGANIZER:La Verrerie asbl
END:VEVENT
END:VCALENDAR
