BEGIN:VCALENDAR
VERSION:2.0
CALSCALE:GREGORIAN
METHOD:PUBLISH
BEGIN:VEVENT
SUMMARY:Comment se libérer de la culpabilité ?
DTSTART:20260427T190000Z
DTSTAMP:20260422T163935Z
CATEGORIES:
DESCRIPTION:\nComment se libérer de la culpabilité sans devenir égoïst
 e ?\n\n	Vous vous sentez coupable… souvent. Parfois même\, tout le temp
 s.\n\n	Coupable d’avoir quitté une relation.\n	Coupable que votre déci
 sion fasse souffrir votre enfant.\n	Coupable face à la peine d’un ex-co
 njoint.\n	Coupable d’avoir éprouvé du désir pour quelqu’un d’autr
 e.\n	Coupable d’avoir eu une liaison.\n	Coupable de ne pas savoir dire n
 on… ou de trop souvent dire non.\n	Coupable de ne pas avoir été à la 
 hauteur avec vos enfants.\n	Coupable de ne pas être heureux(se) alors que
  vous avez “tout pour l’être”.\n	Coupable de ne plus vous sentir am
 oureux(se).\n	Coupable de ne plus ressentir de désir.\n\n	Coupable de ne 
 jamais faire « assez bien ».\n\n	Et malgré tous vos efforts\, vous n’
 arrivez pas à vous sentir en paix.\n\n	Cette culpabilité vous empêche d
 ’accéder au bonheur que vous espériez.\n\n	Le plus troublant\, c’est
  que vous avez pris des décisions pour aller mieux. Pour vous respecter. 
 Pour construire une vie plus alignée. Mais au lieu de ressentir du soulag
 ement\, vous vous retrouvez envahi(e) par le doute\, le regret\, un malais
 e intérieur. Comme si chaque choix devenait une faute. Comme si vous n’
 aviez jamais vraiment le droit d’être bien.\n\n	Et si cette culpabilit
 é n’était pas là par hasard ?\n\n	Et si elle racontait quelque chose 
 de beaucoup plus profond sur votre manière d’entrer en relation avec le
 s autres et avec vous-même ?\n\n	Car la culpabilité ne naît jamais de n
 ulle part. Elle s’inscrit dans une histoire. Dans un contexte. Dans des 
 liens où\, souvent\, vous avez appris (consciemment ou non) à vous senti
 r responsable de ce que les autres ressentent. Et c’est précisément ce
  terrain qui peut encore aujourd’hui vous exposer à des relations dés
 équilibrées.\n\n	Car beaucoup de relations toxiques commencent ici : en 
 vous faisant douter\, en vous faisant culpabiliser\, en vous faisant porte
 r ce qui ne vous appartient pas.\n\nEt quand on a appris à culpabiliser f
 acilement\, on peut rester longtemps dans des relations qui nous abîment 
 en pensant que c’est « de notre faute ».\n\n	Dans cette masterclass\, 
 nous irons à la racine :\n\n\n		comprendre d’où vient cette tendance 
 à culpabiliser (dans votre histoire\, votre éducation\, vos premières r
 elations)\n\n		identifier les mécanismes qui vous amènent à porter trop
  de responsabilité aujourd’hui\n\n		repérer les dynamiques relationnel
 les qui entretiennent et amplifient cette culpabilité\n\n		et surtout\, a
 pprendre à vous en libérer sans vous couper des autres\n\n\n	Parce que n
 on\, se libérer de la culpabilité ne veut pas dire devenir indifférent(
 e)\, dur(e) ou égoïste.\n\n	C’est au contraire apprendre à aimer autr
 ement : avec plus de justesse\, plus de conscience\, plus de respect\, pou
 r les autres\, mais aussi pour vous-même.\n\n	Cette masterclass est une i
 nvitation à sortir de ce poids invisible qui influence vos choix\, vos re
 lations et votre capacité à être heureux(se).\n\n	À comprendre\, en pr
 ofondeur\, ce qui se joue. Et à retrouver enfin un espace intérieur plus
  apaisé\, plus libre\, plus aligné.\n\n	Si vous sentez que la culpabilit
 é prend trop de place dans votre vie\, alors ce moment est pour vous.\n\n
 !!! Les codes se trouvent sur le billet : regardez bien dans vos spams si 
 vous ne le trouvez pas  !!!\n\n!!! UN REPLAY EST ENVOYÉ LE LENDEMAIN POU
 R TOUTE INSCRIPTION - regardez bien dans vos spams si vous ne le trouvez p
 as!!!\n
LOCATION:   - FR
ORGANIZER:Thérèse Hargot
END:VEVENT
END:VCALENDAR
