BEGIN:VCALENDAR
VERSION:2.0
CALSCALE:GREGORIAN
METHOD:PUBLISH
BEGIN:VEVENT
SUMMARY:DéPause - Espace d’échange
DTSTART:20260528T153000Z
DTEND:20260528T173000Z
DTSTAMP:20260425T175704Z
CATEGORIES:
DESCRIPTION:DéPause est un espace d’échange ouvert autour de la théma
 tique du burn-out.\nLes séances sont simplement encadrées par un·e memb
 re de l’équipe de SOS Burn-out\, sans animation\, sans psychoéducation
  ni structure imposée. Ce n’est pas un groupe de parole au sens classiq
 ue : il n’y a pas de tour de table\, ni de thématique définie à l’a
 vance.\nL’espace vit à travers les échanges entre les participant·e·
 s\, en fonction de ce qu’ils souhaitent partager\, questionner ou mettre
  en discussion. Chacun·e est libre de prendre la parole\, d’écouter\, 
 ou simplement d’être présent·e.\nVous êtes en burn-out ? Un proche e
 st concerné ? Vous vous posez des questions ?Venez dans un espace par et 
 pour les participant·e·s\, où les discussions se construisent ensemble\
 , au fil des besoins du moment.\nVous pouvez venir une fois\, plusieurs fo
 is\, de manière régulière ou ponctuelle\, selon ce qui vous convient.\n
  \nEn vous inscrivant\, vous marquez votre accord pour la charte de bon f
 onctionnement des séances de DéPause 
GEO:50.4662658;4.8425055
LOCATION:123 Avenue Sergent Vrithoff 5000 Namur - BE
ORGANIZER:SOS Burn-out Belgique
END:VEVENT
END:VCALENDAR
