BEGIN:VCALENDAR
VERSION:2.0
CALSCALE:GREGORIAN
METHOD:PUBLISH
BEGIN:VEVENT
SUMMARY:Atelier de fabrication de court-métrage "L'Usine de films amateur
 s"
DTSTART:20260506T113000Z
DTEND:20260506T150000Z
DTSTAMP:20260421T145820Z
CATEGORIES:
DESCRIPTION:Atelier de fabrication de court-métrage "L'Usine de films ama
 teurs"\nAnimé par Camille Cambay\, directeur de production\nDans le cadre
  de Boites à Images\, le festival du court-métrage de la Grande Région 
 ! \nL'Usine du Films Amateurs\, concept inventé par le réalisateur Mich
 el Gondry\, invite à créer un film de A à Z\, collectivement\, et en se
 ulement 3h !\nAucune formation requise\, l'objectif est de se faire plaisi
 r en fabriquant son propre film. Tout le matériel est mis à disposition 
 pour que le groupe soit autonome.\nAprès avoir pris connaissance des déc
 ors\, le groupe passe à l'action : écriture du scénario\, choix des act
 eurs\, tournage et effets spéciaux "bricolés" sur place. Trois heures pl
 us tard\, le groupe part du studio avec son film en poche !\nVenez en fami
 lle ! Enfant\, à partir de 7 ans\, ados et adultes bienvenus !\nTout publ
 ic (+ 7 ans - Ados/Adultes - En famille) | Sur inscription | Gratuit\nLa M
 édiathèque se réserve le droit de vous refuser l'accès à l'animation 
 si les conditions d'inscription ne sont pas respectées.
GEO:49.5183084;5.757621299999999
LOCATION:Avenue de l'Aviation 54400 Longwy - FR
ORGANIZER:Médiathèque du Grand Longwy Jean-Paul Durieux
END:VEVENT
END:VCALENDAR
