BEGIN:VCALENDAR
VERSION:2.0
CALSCALE:GREGORIAN
METHOD:PUBLISH
BEGIN:VEVENT
SUMMARY:Manipulateur - Jeremy Moriau - Verviers
DTSTART:20260924T180000Z
DTEND:20260925T180000Z
DTSTAMP:20260426T004507Z
CATEGORIES:
DESCRIPTION:\nEt si le monde entier nous prenait pour des cons ? \n\nQui 
 est le manipulateur et qui est manipulé ? \n\nEntre les ouvertures facil
 es\, le Summer body\, Instagram\, le cinéma\, et nos parents\, Jeremy se 
 demande si tout le monde se moque de nous.\n\nPlus râleur que jamais\, il
  explore ces questions avec humour et sarcasme. \n\nPeut-être qu’il n
 ’y a pas de réponse définitive mais une chose est sûre : nous sommes 
 tous le manipulateur de quelqu’un.\n\nUne réflexion hilarante sur les m
 anipulations de la vie quotidienne.\n
LOCATION:Place du Marché 14 4800 Verviers - BE
ORGANIZER:ASBL I Pulcini
END:VEVENT
END:VCALENDAR
