BEGIN:VCALENDAR
VERSION:2.0
CALSCALE:GREGORIAN
METHOD:PUBLISH
BEGIN:VEVENT
SUMMARY:ПУШКИН И ДЕНЬГИ // Tеатр the Chaika / спект
 акль для всей семьи!  
DTSTART:20260529T173000Z
DTEND:20260529T184500Z
DTSTAMP:20260421T140802Z
CATEGORIES:
DESCRIPTION:\n\n ПУШКИН И ДЕНЬГИ \n\n		 \n\n\nПремье
 ра театра the Chaika - спектакль для всей семь
 и!  \n\n			 \n\n\nСколько стоила рюмка вина и 
 поездка на извозчике во времена Пушкина?
  Сколько платили за одну строку «Евгения
  Онегина» — и мог ли поэт позволить себе 
 роскошную жизнь? \n\n\nЭтот живой и остроу
 мный спектакль-диалог открывает Пушкина
  с неожиданной стороны: не как бронзовый 
 памятник\, а как человека с долгами\, стра
 стями\, любовью к свободе и умением плати
 ть за право быть собой.\n\n\nЛёгкая игровая
  форма\, юмор\, актёрская энергия — всё эт
 о делает спектакль интересным и для взро
 слых\, и для подростков. Вы уйдёте не толь
 ко с улыбкой\, но и с неожиданным чувство
 м близости к Пушкину и его эпохе.\n\n				 \n\n
 Тизер для настроения: https://www.youtube.com/watch?v=9f
 5Mtzzbibw&t=2s\n\n				 \n\nРежиссер: Анастасия Патл
 ай\n				Драматург: Нана Гринштейн\n				Худож
 ник: Леонид Шмельков\n				Актеры: Алексей Д
 едоборщ\, Егор Морозов\n\n				 \n\nПродолжите
 льность 1 час\n				10+\n\nthechaika.com - это независ
 имый театр\, основанный двумя профессион
 альными актерами\, живущими в ЕС.\n\n\nСсыл
 ки:\nhttps://thechaika.com/\nhttps://www.instagram.com/.../highlights/17
 963979155989711/\nhttps://t.me/the_chaika\n\n				 \n\n\nБИЛЕТЫ:\nVV
 K: от 31€ online https://my.weezevent.com/pushkin\nAK: 40€\n			К
 оличество мест ограничено.\n			Информация
 : +43 69010090852\n\n\n\n	 \n
LOCATION:Florianigasse 39 1080 Wien - AT
ORGANIZER:Julia Mashkovich
END:VEVENT
END:VCALENDAR
