BEGIN:VCALENDAR
VERSION:2.0
CALSCALE:GREGORIAN
METHOD:PUBLISH
BEGIN:VEVENT
SUMMARY:Tournoi de golf 2026 - APCHQ Lanaudière
DTSTART:20260827T123000Z
DTEND:20260828T010000Z
DTSTAMP:20260421T175603Z
CATEGORIES:
DESCRIPTION:\n\n\nLes inscriptions pour le tournoi de golf de l’APCHQ Ma
 uricie–Lanaudière sont ouvertes !Pour vous inscrire\, rien de plus simp
 le : remplissez le formulaire ci-dessous. À noter que nous vous demandons
  de réserver vos billets par paire minimalement (ex. 2 / 4 / 6 / 8) afin
  de faciliter le jumelage pour créer les quatuors. \n\n\n\n\n\n\n \nHor
 aire de l'événement :\n- Dès 8h30: accueil\n- Dès 9h: brunch\n- 11h: 
 départ\n- 17h30: souper festif et tirage des cadeaux\n \nEn plus de pass
 er une magnifique journée sur le parcours\, vous contribuerez à une caus
 e importante : cette année\, nous soutenons Le Trajet - Travail de rue\, 
 un organisme oeuvrant en itinérance et visant à favoriser la santé et l
 e bien-être des personnes en situation de vulnérabilité ou de rupture s
 ociale. \n \nPour toute question\, n’hésitez pas à contacter Mariann
 e Dorval au 450 759-8559 ou par courriel à mdorval@apchq-ml.com. \n \nP
 our consulter ou réserver un partenariat\, consultez le plan de visibilit
 é. \n \nAu plaisir de vous y voir!\n \n**S'il ne reste plus de place p
 our notre tournoi\, veuillez vous inscrire à la liste d'attente ICI.\n\n\
 n
LOCATION:1800 Chemin Nadeau J0K 2X0 Saint-Liguori
ORGANIZER:APCHQ - Région Mauricie-Lanaudière Inc.
END:VEVENT
END:VCALENDAR
