BEGIN:VCALENDAR
VERSION:2.0
CALSCALE:GREGORIAN
METHOD:PUBLISH
BEGIN:VEVENT
SUMMARY:WAKY TREK - 60 Km / 3 étapes
DTSTART:20260523T060000Z
DTEND:20260525T140000Z
DTSTAMP:20260422T200514Z
CATEGORIES:
DESCRIPTION:\nWAKY TREK 2026 - 5ème Edition\n\n \n\n60 KM - 3 JOURS - 20
 km/jour\n\n	 \n\nPrêt à relever le défi ?\n\nPartez à la découverte 
 d’une région exceptionnelle\, à votre rythme.\n\n	 \n\nSeul(e)\, en g
 roupe ou en famille\, vivez une expérience unique en pleine nature\, sans
  chrono ni compétition.\n\n	 \n\nDates :\n\n23\, 24 et 25 mai 2026\n\n	
  \n\nChoisissez votre challenge : 1\, 2 ou 3 jours\n\n	 \n\nMarche\, Mar
 che Nordique ou Trail — ouvert à tous\n\n	 \n\nAccessible à tous les 
 niveaux\, du marcheur occasionnel au sportif confirmé\n\n	 \n\nParcours 
 adaptable avec possibilité de réduire à 10 km\n\n	 \n\nAllure libre 
 – plaisir garanti\n\n	 \n\nBIEN PLUS QU’UNE RANDONNÉE\n\nLe WAKY TRE
 K\, c’est une expérience :\n\ndes paysages naturels préservés\, une a
 mbiance chaleureuse et le plaisir de partager un moment hors du temps.\n\n
 	 \n\nDépart & arrivée\n\nWaky – Route de Luxembourg 9\, 4960 Baugnez
  (Malmedy)\n\n	 \n\nParcours 20 km :\n	Départs à 08h00 / 09h00 / 10h00 
 (navette incluse)\n\n	 \n\nParcours 10 km :\n	⚠️ Départ unique à 10
 h00 (navette incluse)\n\n	 \n\nPour tous les départs\, merci d'arriver 
 15min avant l'heure de départ\n\n	 \n\nTarif \n\n16€ par jour\n\n	 \
 n\nCompris dans l’inscription :\n\n\nLes frais d'inscription \n\nLe rav
 itaillement au 10KM\n\nLe dossier d'inscription\n\nEvènement et animation
 \n\nLa trace GPX\n\nUn T-Shirt (Finisher) offert aux participants des 3 
 jours\n\n\n	 \n\nPetite restauration et bar sur place (payant)\n\n	 \n\n
 Animaux autorisés (en laisse)\n\n	 \n\n⚠️ Inscription obligatoire av
 ant le 20 mai 2026\n\nVotre participation est confirmée dès réception 
 du paiement.\n\n	 \n\nN’attendez plus\, rejoignez l’aventure WAKY TRE
 K !\n
LOCATION:Route de Luxembourg 9 4960 Malmedy - BE
ORGANIZER:WAKY COACHING SRL
END:VEVENT
END:VCALENDAR
