BEGIN:VCALENDAR
VERSION:2.0
CALSCALE:GREGORIAN
METHOD:PUBLISH
BEGIN:VEVENT
SUMMARY:Harmonie municipale et Korollerien Ar Skorv Lanester 13 juin 2026
DTSTART:20260613T180000Z
DTSTAMP:20260424T011621Z
CATEGORIES:
DESCRIPTION:L'Harmonie municipale de Lanester et Korollerien Ar Skorv Lane
 ster proposent un spectacle de musique et de danse celtique à Quai 9 le 1
 3 juin 2026 à 20.00
GEO:47.7629943;-3.350977
LOCATION: 56600 Lanester - FR
ORGANIZER:HARMONIE DE LANESTER
END:VEVENT
END:VCALENDAR
