BEGIN:VCALENDAR
VERSION:2.0
CALSCALE:GREGORIAN
METHOD:PUBLISH
BEGIN:VEVENT
SUMMARY:Regards croisés sur le Syndrome des ovaires polykystiques (SOPK)
DTSTART:20260603T110000Z
DTEND:20260603T140000Z
DTSTAMP:20260422T141243Z
CATEGORIES:
DESCRIPTION:\n	Le Centre national de référence pour la promotion de la s
 anté affective et sexuelle (Cesas) vous invite à une conférence sur le 
 Syndrome des ovaires polykystiques (SOPK). Cet événement prend place dan
 s le cadre de la Semaine de la santé de la Femme organisée par le minist
 ère de la Santé et de la Sécurité sociale. Cette conférence vise à s
 ensibiliser et informer les professionnel.les de la santé sur cette condi
 tion hautement prévalente et\, pourtant\, associée à une grande errance
  diagnostique.\n\n	Conférence gratuite\, en français et anglais (sans in
 terprétation). Inscription souhaitée\, mais non obligatoire. \n\n	13h00
  : Mot de bienvenue\n\n	13h15 : SOPK: dépistage et traitements possibles 
 | Dre Caroline Schilling - Gynécologue-obstétricienne\, cheffe de servic
 e clinique du Service national de PMA (CHL)\n\n	14h00 : PCOS and research 
 | Pr Elisabet Stener-Victorin - Reproductive Endocrinology and Metabolism 
 at the Department of Physiology and Pharmacology at Karolinska Institutet\
 , Sweden (presentation in English)\n\n	14h45 : Impact psychologique du SOP
 K | Marion Cariello - Psychologue et Art-thérapeute au Planning Familial\
 n\n	15h30 : Mot de clôture\n\n	Les présentations seront complétées par
  un stand de documentation ainsi que la lecture de témoignages de femmes 
 vivant avec ce syndrome qui ont été récoltés par le CID Fraen an Gende
 r.\n\n	 \n
LOCATION:2 Rue des Ardennes L-1133 Luxembourg - LU
ORGANIZER:Cesas
END:VEVENT
END:VCALENDAR
