BEGIN:VCALENDAR
VERSION:2.0
CALSCALE:GREGORIAN
METHOD:PUBLISH
BEGIN:VEVENT
SUMMARY:Gabriel Julien: Ma résilience\, un pas à la fois!
DTSTART:20260506T230000Z
DTEND:20260507T010000Z
DTSTAMP:20260423T014610Z
CATEGORIES:
DESCRIPTION:\n\n\nLa Bouée d'Espoir vous invite à une conférence inspir
 ant en santé mentale!\n\n\nC’est en 2009 sous les projecteurs de Loft S
 tory\, que Gabriel Julien vit un tournant aussi brutal qu’inattendu\; il
  fait sa première psychose. Ce n’est que deux années plus tard qu’il
  prend pleinement conscience de ce qu’il a traversé. Incarcéré au Mex
 ique\, il est rapatrié d’urgence au Canada par air-ambulance\, directem
 ent vers une institution psychiatrique. À l’âge de 27 ans\, sa vie bas
 cule\, le diagnostic tombe : maladie bipolaire. Il vivra au total 4 psycho
 ses.\n\n\nDans sa conférence en santé mentale empreinte d’humour et de
  douceur\, Gabriel partage son parcours sans filtre. Un récit de vie marq
 ué par les chutes\, les combats pour la sobriété\, la reconstruction pe
 rsonnelle\, la découverte de repères solides\, et surtout\, le développ
 ement d’outils concrets pour faire face aux aléas de la vie.\n\n\nFaisa
 nt preuve d’humanité\, de lucidité et d’authenticité\, il offre un 
 message d’espoir à tous ceux et celles qui\, de près ou de loin\, sont
  sensibles aux sujets de la santé mentale\, de la dépendance\, et des no
 uveaux départs.\nBillets gratuit! Disponible ici (weezevent) ou par tél
 éphone au 819 333-1184!\nAu plaisir de vous y voir! \n\n\n
GEO:48.7962021;-79.20724729999999
LOCATION:500 Rue Principale J9Z 2A2 La Sarre - CA
ORGANIZER:La Bouée d'Espoir
END:VEVENT
END:VCALENDAR
