BEGIN:VCALENDAR
VERSION:2.0
CALSCALE:GREGORIAN
METHOD:PUBLISH
BEGIN:VEVENT
SUMMARY:La prise en charge des enfants dys
DTSTART:20260519T163000Z
DTEND:20260519T183000Z
DTSTAMP:20260421T232314Z
CATEGORIES:
DESCRIPTION:\n\nCERENE fait son tour de France !  Après avoir organisé 
 des conférences à Paris et Marseille\, c’est au tour de la région Auv
 ergne-Rhône-Alpes d’être le prochain hôte d'une de nos conférences. 
 \n\nL’occasion de rencontrer des parents\, des enseignants\, des profess
 ionnels de la santé et toute personne intéressée par l'éducation et la
  prise en charge des élèves atteints de troubles d'apprentissage afin d'
 en apprendre davantage sur les meilleures pratiques pour aider ces enfants
  à réussir.\n\nLa conférence se déroulera en présentiel le mardi 19 m
 ai 2026 de 18h30 à 20h30 à l'amphithéâtre du Lycée Fénelon\, 31 rue 
 de Sèze - 69006 Lyon.\n\nEn présence d'Hervé Glasel Neuropsychologue et
  fondateur du CERENE.\n\n\n	 \n
LOCATION:31 rue de Sèze 69006 Lyon - FR
ORGANIZER:CERENE
END:VEVENT
END:VCALENDAR
