BEGIN:VCALENDAR
VERSION:2.0
CALSCALE:GREGORIAN
METHOD:PUBLISH
BEGIN:VEVENT
SUMMARY:Rave Yourself Well
DTSTART:20260516T100000Z
DTSTAMP:20260423T163708Z
CATEGORIES:
DESCRIPTION:
GEO:56.9522366;24.1054366
LOCATION:24 Jēkaba iela 1050 Rīga - LV
ORGANIZER:SIA HOTEL J24
END:VEVENT
END:VCALENDAR
