BEGIN:VCALENDAR
VERSION:2.0
CALSCALE:GREGORIAN
METHOD:PUBLISH
BEGIN:VEVENT
SUMMARY:Skazka -  Сказка о царе Салтане - Linz - 18.04 -
  17h
DTSTART:20260418T150000Z
DTEND:20260418T165000Z
DTSTAMP:20260422T220926Z
CATEGORIES:
DESCRIPTION:\nPrivate screening in a rented cinema. Частный пок
 аз в арендованном кинозале - фильма нет в
  афише и кассе кинотеатра.\n\nFilm - Skazka o Tsare S
 altane -  Сказка о царе Салтане. Современный
  семейный фэнтэзи фильм по мотивам произ
 ведения А.С.Пушкина.\n\nНа русском языке б
 ез субтитров  - in Russian\, no subs.\n\nPrivate event. Час
 тный показ.  Рекомендация 6+ \, более ранн
 ий возраст в сопровождении родителей и н
 а их усмотрение\,  Продолжительность фил
 ьма 1ч50мин. \n\n*купленные билеты возврату
  и обмену не подлежат\, кроме случаев отм
 ены сеанса \n\n*tickets are not refunded unless the event is can
 celled \n
LOCATION:Plus-Kauf-Straße 7 4061 Pasching - AT
ORGANIZER:Swiss Partnership SP
END:VEVENT
END:VCALENDAR
