BEGIN:VCALENDAR
VERSION:2.0
CALSCALE:GREGORIAN
METHOD:PUBLISH
BEGIN:VEVENT
SUMMARY:Azur Tech Summer 2026 - Jeudi 2 juillet 
DTSTART:20260702T063000Z
DTEND:20260702T190000Z
DTSTAMP:20260425T141310Z
CATEGORIES:
DESCRIPTION:\nAzur Tech Summer 2026\n	Les tendances et usages du Numériqu
 e\n\n	L’événement phare de l’été sur la Côte d’Azur dédié aux
  tendances et aux usages des métiers du numérique est organisé autour 
 de plusieurs thématiques choisies pour refléter les défis et les oppo
 rtunités les plus pertinents et actuels pour les acteurs du numérique a
 zuréen.\n\n	Tout cela dans une ambiance détendue et conviviale ☀️\n
 \n	Programme complet sur\ntelecom-valley.fr/azurtechsummer\n\n	 \n\nVous 
 êtes adhérent de Telecom Valley ? Bonne nouvelle ! \n\nVous disposez de
  -80% sur le prix de votre participation ! \nRapprochez-vous de l’équ
 ipe Telecom Valley pour obtenir votre code de réduction.\n
LOCATION:60 Rue Fedor Dostoïevski 06560 SOPHIA ANTIPOLIS - FR
ORGANIZER:TELECOM VALLEY
END:VEVENT
END:VCALENDAR
