BEGIN:VCALENDAR
VERSION:2.0
CALSCALE:GREGORIAN
METHOD:PUBLISH
BEGIN:VEVENT
SUMMARY:Cours de Zumba
DTSTART:20260425T120000Z
DTEND:20260425T133000Z
DTSTAMP:20260421T163637Z
CATEGORIES:
DESCRIPTION:STAGE DE ZUMBA ‍‍\nPas là pour faire semblant!!\nOn est l
 à pour transpirer\, se lâcher… et tout donner\nSamedi 25 avril\n14h00\
 n⏱ 1h30 de pur feu \n10€ seulement\n \nAttends-toi à :\n-du cardio 
 qui réveille\n-des sons qui font monter la pression\n-une énergie qui te
  dépasse\n \nTu viens ? Alors viens en forme !!! \nTrop hâte de partag
 er ce moment avec vous !! \nPlaces limitées – sur inscription
GEO:43.8387563;4.3802414
LOCATION:54 Impasse Enclos Goubert 30000 Nîmes - FR
ORGANIZER:Leslie fitness
END:VEVENT
END:VCALENDAR
