BEGIN:VCALENDAR
VERSION:2.0
CALSCALE:GREGORIAN
METHOD:PUBLISH
BEGIN:VEVENT
SUMMARY:Brâncuși - Arta este adevărul absolut\, Dialog cu Doina Lemny
DTSTART:20260512T163000Z
DTEND:20260512T180000Z
DTSTAMP:20260420T145746Z
CATEGORIES:
DESCRIPTION:\n	Vă invităm la un dialog între Doina Lemny\, istoric de a
 rtă\, cercetătoare specializată în opera lui Constantin Brâncuși și
  Ana-Maria Gîrleanu-Guichard\, șefa Catedrei de literatură română de 
 la Universitatea din Strasbourg.\n\n	 \n\n	Vă propunem astfel să descop
 eriți o nouă latură a părintelui sculpturii moderne\, adusă la lumin
 ă de Doina Lemny prin volumul Arta este adevărul absolut\, Note și afor
 isme\, în care sunt reunite pentru prima dată notele de atelier ale scul
 ptorului în forma în care au fost scrise\, așa cum au fost păstrate ș
 i clasificate în Fondul Brâncuși de la Biblioteca Kandinski\, Centrul P
 ompidou.\n\n	 \n\n	Doina Lemny este doctor în istoria artei la Universit
 atea Paris I - Sorbonne cu teza Le milieu artistique et culturel de Brânc
 uși: essai d'investigation à partir du legs au Musée national d'art mod
 erne. A lucrat între 1991-2019 la Muzeul Național de Artă Modernă Cent
 re Pompidou din Paris și a participat la reinstalarea Atelierului lui Br
 âncuși. Este autoare a numeroase volume privind viața și opera lui Con
 stantin Brâncuși și a curatoriat mai multe expoziții internaționale c
 u operele acestuia. În anul 2024 a fost curatoarea expoziției Brâncuși
 : surse românești și perspective universale care a avut loc la Muzeul N
 ațional de Artă Timișoara\, în cadrul programului Capitala Europeană 
 a Culturii.\n\n	 \n\n	Evenimentul marchează „Anul Constantin Brâncuș
 i”\, celebrează Francofonia și este organizat în parteneriat cu Ambas
 ada României în Marele Ducat al Luxemburgului și Institutul Cultural Ro
 mân de la Bruxelles.\n\n	 \n\n	Dialogul se va purta în limba franceză.
 \n\n	Participarea este gratuită. Locurile fiind limitate\, înscrierea es
 te obligatorie.\n
LOCATION: 26A rue du Château L-1329  Luxembourg - LU
ORGANIZER:RoKultur asbl
END:VEVENT
END:VCALENDAR
