BEGIN:VCALENDAR
VERSION:2.0
CALSCALE:GREGORIAN
METHOD:PUBLISH
BEGIN:VEVENT
SUMMARY:Sanctuary of Sound: Celestial Bloom
DTSTART:20260528T010000Z
DTEND:20260528T030000Z
DTSTAMP:20260419T182810Z
CATEGORIES:
DESCRIPTION:Celestial Bloom is a one-of-a-kind immersive wellness experien
 ce taking place inside the Zeidler Dome at the TELUS World of Science in E
 dmonton—the first soundbath ever hosted in this iconic planetarium space
 .\nThis event brings together a grounding\, thought-provoking talk by regi
 stered therapist\, Tyrone Powell\, and a deeply immersive live soundbath 
 led by sound alchemist\, Genevieve Powell. Beneath a full-dome canopy of c
 osmic visuals\, you’ll be guided through an experience designed to conne
 ct the vastness of the universe with your inner world—inviting clarity\,
  regulation\, and personal activation.\nBlending elements of mindfulness\,
  sound therapy\, and shared human experience\, Celestial Bloom offers a ra
 re opportunity to slow down\, reset\, and reconnect in a setting unlike an
 y other.\nProfits from the event will be donated in support of the WIRTH 
 Foundation. WIRTH is a registered charity in Canada whose aim is to remove
  financial barriers to access to mental health care. After a simple applic
 ation process\, approved applicants are awarded provided with 8 fully fund
 ed therapy sessions through WIRTH's network of registered therapists acros
 s Canada. Since inception\, they have provided people with over 9000 funde
 d sessions—aiming for 10000 by the end of 2026.\nWhat to expect:\n\nA gu
 ided\, reflective talk to ground and center\nA full immersive soundbath us
 ing crystal singing bowls and ambient frequencies\nStunning planetarium vi
 suals within a 360° dome environment\nA calm\, intentional\, and communal
  atmosphere\n\nWhat to bring:Blanket\, pillow\, water\, and anything else 
 you need to be comfortable lying down in the planetarium chairs for the du
 ration of the experience.\nThis is an event with GOOD Humans. A collective
  of people working as an offline community towards the betterment of our s
 hared world.
GEO:53.5610024;-113.5636254
LOCATION:11211 142 Street Northwest T5M 4A1 Edmonton - CA
ORGANIZER:Good Humans
END:VEVENT
END:VCALENDAR
