BEGIN:VCALENDAR
VERSION:2.0
CALSCALE:GREGORIAN
METHOD:PUBLISH
BEGIN:VEVENT
SUMMARY:Skazka -  Сказка о царе Салтане - Innsbruck - 19
 .04 - 14h
DTSTART:20260419T120000Z
DTEND:20260419T135000Z
DTSTAMP:20260422T215935Z
CATEGORIES:
DESCRIPTION:\nДополнительный сеанс. \n\nPrivate screen
 ing in a rented cinema. Частный показ в арендованн
 ом кинозале - фильма нет в афише и кассе к
 инотеатра.\n\nFilm - Skazka o Tsare Saltane -  Сказка о 
 царе Салтане. Современный семейный фэнт
 эзи фильм по мотивам произведения А.С.Пу
 шкина.\n\nНа русском языке без субтитров  
 - in Russian\, no subs.\n\nPrivate event. Частный показ.  Р
 екомендация 6+ \, более ранний возраст в с
 опровождении родителей и на их усмотрен
 ие\,  Продолжительность фильма 1ч50мин. \n\
 n*купленные билеты возврату и обмену не п
 одлежат\, кроме случаев отмены сеанса \n\n
 *tickets are not refunded unless the event is cancelled \n
LOCATION:Innstraße 5\,  6020 Innsbruck - AT
ORGANIZER:Swiss Partnership SP
END:VEVENT
END:VCALENDAR
