BEGIN:VCALENDAR
VERSION:2.0
CALSCALE:GREGORIAN
METHOD:PUBLISH
BEGIN:VEVENT
SUMMARY:Le rôle stratégique de l’encadrement soignant dans le déploie
 ment des démarches 
DTSTART:20260512T150000Z
DTEND:20260512T160000Z
DTSTAMP:20260423T032218Z
CATEGORIES:
DESCRIPTION:\n	L'Institut Français de l'expérience patient (IFEP) propos
 e :\n\n	« Le rôle stratégique de l’encadrement soignant dans le dép
 loiement des démarches d’amélioration de l’expérience patient »\n\
 n	Un webinaire organisé le mardi 12 mai 2026 de 17h00 à 18h00 (une pro
 longation de 30 minutes sera réservée aux membres \;) ).\n\n	Ce webinair
 e mettra en lumière des retours d’expérience concrets portés par des 
 Directeurs et Directrices des Soins.\n	Il permettra de mieux comprendre le
  rôle de l’encadrement soignant dans la mise en œuvre\, l’appropriat
 ion et la diffusion des démarches d’expérience patient\, ainsi que les
  leviers et enseignements issus du terrain.\n
LOCATION:   - FR
ORGANIZER:Institut Français de l'Expérience Patient
END:VEVENT
END:VCALENDAR
