BEGIN:VCALENDAR
VERSION:2.0
CALSCALE:GREGORIAN
METHOD:PUBLISH
BEGIN:VEVENT
SUMMARY:Danyl + Première Partie @TLV
DTSTART:20261022T180000Z
DTEND:20261022T210000Z
DTSTAMP:20260424T034041Z
CATEGORIES:
DESCRIPTION:Danyl + Première Partie\nAutodidacte\, Danyl a commencé trè
 s tôt les productions pour lui comme pour les autres. Auteur\, compositeu
 r et beatmaker\, il fait partie des premiers artistes à créer des morcea
 ux en live sur la plateforme Twitch. Danyl est franco-algérien et puise d
 ans les sonorités raï pour construire son univers musical. Inspiré par 
 sa double culture et la modernité de son époque\, Danyl sort son premier
  album ZMIG.\nNavettes Centre-Ville ↔ Theatre Lino VenturaCertaines date
 s proposent un service de navettes gratuites entre le centre-ville de Nice
  et le Frigo 16. Consultez le calendrier et réservez votre navette ici : 
 www.panda-events.com/venir\nJeu. 22 octobre 2026Théâtre Lino Ventura\, 1
 68 bd de l'Ariane 063000 NICEOuverture des portes 20 h 00 Buvette et snack
 ing sur place 
GEO:43.7389729;7.308246199999999
LOCATION:168 Boulevard de l'Ariane 06300 Nice - FR
ORGANIZER:Panda Events
END:VEVENT
END:VCALENDAR
