BEGIN:VCALENDAR
VERSION:2.0
CALSCALE:GREGORIAN
METHOD:PUBLISH
BEGIN:VEVENT
SUMMARY:Colloque Génie écologique 2026
DTSTART:20261203T130000Z
DTEND:20261204T130000Z
DTSTAMP:20260421T113227Z
CATEGORIES:
DESCRIPTION:\n	Beinvenue à ce colloque dédié aux aménagements et aux a
 bris en faveur de la faune !\n
LOCATION:Parvis de l'Unesco 21000 Dijon - FR
ORGANIZER:Unep Services
END:VEVENT
END:VCALENDAR
