BEGIN:VCALENDAR
VERSION:2.0
CALSCALE:GREGORIAN
METHOD:PUBLISH
BEGIN:VEVENT
SUMMARY:Atelier "Publicité et IA" : les enjeux éthiques et de régulatio
 n
DTSTART:20260922T123000Z
DTEND:20260922T143000Z
DTSTAMP:20260422T085047Z
CATEGORIES:
DESCRIPTION:\nDurée 2 heures\n\nOBJECTIFS\n\n\n		Adaptation des grands pr
 incipes de la régulation professionnelle de la publicité à l’IA\n\nLe
 s principales exigences du règlement européen sur l'intelligence artific
 ielle (AI ACT)\n\nComprendre et identifier les risques éthiques liés à 
 l’usage de l’IA (biais\, transparence\, responsabilité\, respect de l
 a personne…)\n\n\n	 \n\nPRÉ-PROGRAMME susceptible d’évoluer\n\n1. C
 oncepts et définitions de l’IA\n\n2. Les biais algorithmiques et discri
 mination\n\n\n3. L’explicabilité de l’IA\n\n\n4. AI ACT : les grands
  principes\n\n\n		l’approche par les risques\n\nl’étiquetage des cont
 enus générés ou manipulés par l’IA\n\nle marquage des contenus gén
 érés par les fournisseurs d’IA\n\nla responsabilité des fournisseurs 
 et déployeurs d’IA\n\n…\n\n\n5. IA et manipulation de l’attention\n
 \n\n6. Generative Engine Advertising (GEA) et identification\n\n\n7. L’i
 mpact écologique et social\n\n\n8. Les droits d’auteur\n\n\n9. Comment 
 l’IA augmente la régulation professionnelle de la publicité\n\n	 \n\n
 Intervenants : Julie Joseph et Mohamed Mansouri\n
LOCATION:En ligne\, via Zoom Meeting   - FR
ORGANIZER:Autorité de Régulation Professionnelle de la Publicité
END:VEVENT
END:VCALENDAR
