BEGIN:VCALENDAR
VERSION:2.0
CALSCALE:GREGORIAN
METHOD:PUBLISH
BEGIN:VEVENT
SUMMARY:TNT
DTSTART:20260515T173000Z
DTEND:20260515T190000Z
DTSTAMP:20260421T165428Z
CATEGORIES:
DESCRIPTION:\nSORTIE DE RÉSIDENCE\n\n	Formé au début de l’année\, le
  quartet TNT a tout de suite placé sa musique sous l’influence des plus
  grands du blues (Junior Wells\, Buddy Guy\, Muddy Waters)\, mais aussi pa
 rfois dans un son électrique emprunté au rock de Led Zepplin ou d’AC/D
 C.\n\n	Basé entre Paris et Lyon\, le groupe va pouvoir lors de cette prem
 ière résidence étoffer un son de groupe à la fois moderne et dans la c
 ontinuité de la tradition de la musique folk noire-américaine.\n\n	Au pr
 ogramme\, un son électrique et spontané\, de l’improvisation\, des sta
 ndards revisités et de nouvelles compositions.\n
LOCATION:Espace Saint-Germain\, 30 Avenue Général Leclerc 38200 VIENNE -
  FR
ORGANIZER:Conservatoire Musique & Danse de Vienne
END:VEVENT
END:VCALENDAR
