BEGIN:VCALENDAR
VERSION:2.0
CALSCALE:GREGORIAN
METHOD:PUBLISH
BEGIN:VEVENT
SUMMARY:Hors d'Haleine - Breathing Underwater (film)
DTSTART:20260424T160000Z
DTSTAMP:20260421T181607Z
CATEGORIES:
DESCRIPTION:Synopsis \n \nEmma arrive\, au bout milieu d'une nuit dans u
 n refuge pour femmes en détresse. Dans ce nouvel environnement\, Emma red
 écouvre des facettes d'elle-même qu'elle avait enfouies grâce aux liens
  et à l'amitié improbable qu'elle noue avec un groupe de femmes et d'enf
 ants. Les traumatismes de chacune s'entremêlent et\, malgré leurs diffé
 rences\, une délicate sororité émerge et les pousse à lutter pour retr
 ouver leur dignité et leur indépendance. \n \nVenez assister à cette 
 projection le vendredi 24 avril 2026 au Cinéma UGC Ciné Cité\, à 18h.
  \n \nLe film sera suivi d'un débat thématique sur la lutte contre les
  violences à l'égard des femmes\, et d'un verre de l'amitié. 
GEO:48.5731614;7.7616989
LOCATION:25 Avenue du Rhin 67100 Strasbourg - FR
ORGANIZER:Représentation Permanente du Luxembourg auprès du Conseil de l
 'Europe
END:VEVENT
END:VCALENDAR
