BEGIN:VCALENDAR
VERSION:2.0
CALSCALE:GREGORIAN
METHOD:PUBLISH
BEGIN:VEVENT
SUMMARY:Conférence de Souleymane Bachir Diagne\, lauréat du Prix de la P
 rincipauté 2024
DTSTART:20260612T170000Z
DTEND:20260612T193000Z
DTSTAMP:20260423T191311Z
CATEGORIES:
DESCRIPTION:\n\n		 \n\n		 \n\n\n	 \n
LOCATION:157 Rue Saint-Martin  75003 Paris - FR
ORGANIZER:Les Rencontres Philosophiques de Monaco
END:VEVENT
END:VCALENDAR
