BEGIN:VCALENDAR
VERSION:2.0
CALSCALE:GREGORIAN
METHOD:PUBLISH
BEGIN:VEVENT
SUMMARY:Dialogue avec les finalistes du Prix PhiloMonaco de l’Essai
DTSTART:20260521T163000Z
DTEND:20260521T193000Z
DTSTAMP:20260420T231921Z
CATEGORIES:
DESCRIPTION:\n	Dialogue avec les finalistes du Prix PhiloMonaco de l’Ess
 ai\n\n	En présence des membres fondateurs et les membres du Jury\n\n	 \n
 \n	 \n
LOCATION:157 rue Saint-Martin  75003 - FR
ORGANIZER:Les Rencontres Philosophiques de Monaco
END:VEVENT
END:VCALENDAR
